BEGIN:VCALENDAR
VERSION:2.0
PRODID:-//eventon.com NONSGML v1.0//EN
CALSCALE:GREGORIAN
METHOD:PUBLISH
BEGIN:VEVENT
UID:69e7d4b6619e0
DTSTAMP:20260421T194910Z
DTSTART:20230910T230000Z
DTEND:20230911T020000Z
LOCATION:Kanan Rooftop
SUMMARY:Rooftop Vibes
DESCRIPTION:\nhttps://ahaucollection.com/events/rooftop-vibes/var/ri-1.l-L1
URL:https://ahaucollection.com/events/rooftop-vibes/var/ri-1.l-L1
END:VEVENT
END:VCALENDAR