BEGIN:VCALENDAR
VERSION:2.0
PRODID:-//eventon.com NONSGML v1.0//EN
CALSCALE:GREGORIAN
METHOD:PUBLISH
BEGIN:VEVENT
UID:69e7ef8802010
DTSTAMP:20260421T214336Z
DTSTART:20230906T230000Z
DTEND:20230907T020000Z
LOCATION:Kanan Rooftop
SUMMARY:Rooftop Vibes
DESCRIPTION:\nhttps://ahaucollection.com/events/rooftop-vibes/
URL:https://ahaucollection.com/events/rooftop-vibes/
END:VEVENT
END:VCALENDAR