BEGIN:VCALENDAR
VERSION:2.0
PRODID:-//eventon.com NONSGML v1.0//EN
CALSCALE:GREGORIAN
METHOD:PUBLISH
BEGIN:VEVENT
UID:69e9eae57a1c4
DTSTAMP:20260423T094821Z
DTSTART:20230509T223000Z
DTEND:20230510T003000Z
LOCATION:Alaya Tulum Carr. Tulum-Boca Paila Km. 8.3\,  Tulum Beach\,  Zona Costera\,  77760 Tulum\,  Q.R.
SUMMARY:Sonic Attunement
DESCRIPTION:A multi &#8211; instrumental journey that weaves together heali
 ng sounds from around thr world.\nhttps://ahaucollection.com/events/sonic-a
 ttunement/
URL:https://ahaucollection.com/events/sonic-attunement/
END:VEVENT
END:VCALENDAR